BEGIN:VCALENDAR
VERSION:2.0
PRODID: Ultiorganizer


BEGIN:VEVENT
SUMMARY:Disckick-Pizza Volante
DESCRIPTION:U17 Junioren: Pool A
LOCATION: DM 1
DTSTART;TZID=Europe/Berlin:20250322T100000
DURATION: P30M
GEO:0.0000000000000;0.0000000000000
END:VEVENT

BEGIN:VEVENT
SUMMARY:Goldfingers-Disckick
DESCRIPTION:U17 Junioren: Pool A
LOCATION: DM 1
DTSTART;TZID=Europe/Berlin:20250322T120000
DURATION: P30M
GEO:0.0000000000000;0.0000000000000
END:VEVENT

BEGIN:VEVENT
SUMMARY:Bad Raps-Disckick
DESCRIPTION:U17 Junioren: Pool A
LOCATION: DM 1
DTSTART;TZID=Europe/Berlin:20250322T140000
DURATION: P30M
GEO:0.0000000000000;0.0000000000000
END:VEVENT

BEGIN:VEVENT
SUMMARY:Disckick-Nullacht! Ultimate
DESCRIPTION:U17 Junioren: Pool A
LOCATION: DM 1
DTSTART;TZID=Europe/Berlin:20250322T180000
DURATION: P30M
GEO:0.0000000000000;0.0000000000000
END:VEVENT

BEGIN:VEVENT
SUMMARY:Ratisbona Eagles-Disckick
DESCRIPTION:U17 Junioren: Zwischenrunde
LOCATION: DM 1
DTSTART;TZID=Europe/Berlin:20250323T100000
DURATION: P30M
GEO:0.0000000000000;0.0000000000000
END:VEVENT

BEGIN:VEVENT
SUMMARY:Nullacht! Ultimate-Disckick
DESCRIPTION:U17 Junioren: Spiel um Platz 9
LOCATION: DM 1
DTSTART;TZID=Europe/Berlin:20250323T123000
DURATION: P30M
GEO:0.0000000000000;0.0000000000000
END:VEVENT

END:VCALENDAR
