BEGIN:VCALENDAR
VERSION:2.0
PRODID: Ultiorganizer


BEGIN:VEVENT
SUMMARY:ULTIS Berlin delight-Pizza Volante II
DESCRIPTION:U17 Quali NO: U17
LOCATION: Potsdam 1
DTSTART;TZID=Europe/Berlin:20260118T093000
DURATION: P30M
GEO:52.3915710449219;13.0666170120239
END:VEVENT

BEGIN:VEVENT
SUMMARY:Pizza Volante II-ULTIS Berlin deLux
DESCRIPTION:U17 Quali NO: U17
LOCATION: Potsdam 1
DTSTART;TZID=Europe/Berlin:20260118T110000
DURATION: P30M
GEO:52.3915710449219;13.0666170120239
END:VEVENT

BEGIN:VEVENT
SUMMARY:Pizza Volante II-Goldfingers
DESCRIPTION:U17 Quali NO: U17
LOCATION: Potsdam 1
DTSTART;TZID=Europe/Berlin:20260118T123000
DURATION: P30M
GEO:52.3915710449219;13.0666170120239
END:VEVENT

BEGIN:VEVENT
SUMMARY:Pebbleheads + Traumfänger-Pizza Volante II
DESCRIPTION:U17 Quali NO: U17
LOCATION: Potsdam 1
DTSTART;TZID=Europe/Berlin:20260118T143000
DURATION: P30M
GEO:52.3915710449219;13.0666170120239
END:VEVENT

BEGIN:VEVENT
SUMMARY:JugEndzonis Luv-Pizza Volante II
DESCRIPTION:U17 Quali NO: U17
LOCATION: Potsdam 1
DTSTART;TZID=Europe/Berlin:20260118T163000
DURATION: P30M
GEO:52.3915710449219;13.0666170120239
END:VEVENT

BEGIN:VEVENT
SUMMARY:Pizza Volante II-Pizza Volante I
DESCRIPTION:U17 Quali NO: U17
LOCATION: Potsdam 1
DTSTART;TZID=Europe/Berlin:20260118T183000
DURATION: P30M
GEO:52.3915710449219;13.0666170120239
END:VEVENT

END:VCALENDAR
