BEGIN:VCALENDAR
VERSION:2.0
PRODID: Ultiorganizer


BEGIN:VEVENT
SUMMARY:Bremen Ultimate-Frizzly Bears
DESCRIPTION:4. Liga Nord-West Frauen, Indoor: Pool A
LOCATION: Köln 1
DTSTART;TZID=Europe/Berlin:20260228T100000
DURATION: P50M
GEO:50.9414024353027;6.9580740928650
END:VEVENT

BEGIN:VEVENT
SUMMARY:Frizzly Bears-Bremen Ultimate
DESCRIPTION:4. Liga Nord-West Frauen, Indoor: Pool A
LOCATION: Köln 1
DTSTART;TZID=Europe/Berlin:20260228T121000
DURATION: P50M
GEO:50.9414024353027;6.9580740928650
END:VEVENT

BEGIN:VEVENT
SUMMARY:U de Cologne II-Bremen Ultimate
DESCRIPTION:4. Liga Nord-West Frauen, Indoor: Pool A
LOCATION: Köln 1
DTSTART;TZID=Europe/Berlin:20260228T151000
DURATION: P50M
GEO:50.9414024353027;6.9580740928650
END:VEVENT

BEGIN:VEVENT
SUMMARY:Frizzly Bears-Bremen Ultimate
DESCRIPTION:4. Liga Nord-West Frauen, Indoor: Spiel um Platz 3
LOCATION: Köln 1
DTSTART;TZID=Europe/Berlin:20260228T163000
DURATION: P50M
GEO:50.9414024353027;6.9580740928650
END:VEVENT

END:VCALENDAR
